Package: iCNV Version: 1.29.0 Command: chmod a+r iCNV -R && F:\biocbuild\bbs-3.22-bioc\R\bin\R.exe CMD build --keep-empty-dirs --no-resave-data iCNV StartedAt: 2025-07-22 19:45:16 -0400 (Tue, 22 Jul 2025) EndedAt: 2025-07-22 19:49:44 -0400 (Tue, 22 Jul 2025) EllapsedTime: 267.7 seconds RetCode: 0 Status: OK PackageFile: iCNV_1.29.0.tar.gz PackageFileSize: 1.765 MiB