Package: iCNV Version: 1.29.0 Command: rm -rf iCNV.buildbin-libdir && mkdir iCNV.buildbin-libdir && F:\biocbuild\bbs-3.22-bioc\R\bin\R.exe CMD INSTALL --build --library=iCNV.buildbin-libdir iCNV_1.29.0.tar.gz StartedAt: 2025-07-23 09:20:31 -0400 (Wed, 23 Jul 2025) EndedAt: 2025-07-23 09:22:37 -0400 (Wed, 23 Jul 2025) EllapsedTime: 126.5 seconds RetCode: 0 Status: OK PackageFile: iCNV_1.29.0.zip PackageFileSize: 1.896 MiB