Package: iCNV Version: 1.29.0 Command: /Library/Frameworks/R.framework/Resources/bin/R CMD INSTALL iCNV StartedAt: 2025-07-01 15:44:35 -0400 (Tue, 01 Jul 2025) EndedAt: 2025-07-01 15:45:21 -0400 (Tue, 01 Jul 2025) EllapsedTime: 46.7 seconds RetCode: 0 Status: OK