Package: iCNV Version: 1.29.0 Command: /Library/Frameworks/R.framework/Resources/bin/R CMD build --keep-empty-dirs --no-resave-data iCNV StartedAt: 2025-07-01 17:20:19 -0400 (Tue, 01 Jul 2025) EndedAt: 2025-07-01 17:23:13 -0400 (Tue, 01 Jul 2025) EllapsedTime: 174.1 seconds RetCode: 0 Status: OK PackageFile: iCNV_1.29.0.tar.gz PackageFileSize: 2.36 MiB