Package: iCNV Version: 1.29.0 Command: /Library/Frameworks/R.framework/Resources/bin/R CMD check --install=check:iCNV.install-out.txt --library=/Library/Frameworks/R.framework/Resources/library --no-vignettes --timings iCNV_1.29.0.tar.gz StartedAt: 2025-07-13 19:40:56 -0400 (Sun, 13 Jul 2025) EndedAt: 2025-07-13 19:42:26 -0400 (Sun, 13 Jul 2025) EllapsedTime: 90.1 seconds RetCode: 0 Status: WARNINGS CheckDir: iCNV.Rcheck Warnings: 1