Package: iCNV Version: 1.29.0 Command: rm -rf iCNV.buildbin-libdir && mkdir iCNV.buildbin-libdir && /Users/biocbuild/BBS/utils/build-universal.sh iCNV_1.29.0.tar.gz /Library/Frameworks/R.framework/Resources/bin/R iCNV.buildbin-libdir StartedAt: 2025-07-11 22:23:11 -0400 (Fri, 11 Jul 2025) EndedAt: 2025-07-11 22:23:26 -0400 (Fri, 11 Jul 2025) EllapsedTime: 15.4 seconds RetCode: 0 Status: OK PackageFile: iCNV_1.29.0.tgz PackageFileSize: 2.43 MiB