Package: iBMQ Version: 1.49.0 Command: F:\biocbuild\bbs-3.22-bioc\R\bin\R.exe CMD INSTALL iBMQ StartedAt: 2025-07-20 15:29:55 -0400 (Sun, 20 Jul 2025) EndedAt: 2025-07-20 15:30:22 -0400 (Sun, 20 Jul 2025) EllapsedTime: 27.9 seconds RetCode: 0 Status: OK