Package: iBBiG Version: 1.53.0 Command: /home/biocbuild/R/R/bin/R CMD check --install=check:iBBiG.install-out.txt --library=/home/biocbuild/R/R/site-library --no-vignettes --timings iBBiG_1.53.0.tar.gz StartedAt: 2025-07-01 08:30:00 -0000 (Tue, 01 Jul 2025) EndedAt: 2025-07-01 08:32:15 -0000 (Tue, 01 Jul 2025) EllapsedTime: 134.1 seconds RetCode: 0 Status: OK CheckDir: iBBiG.Rcheck Warnings: 0