Package: iBBiG Version: 1.53.0 Command: /Library/Frameworks/R.framework/Resources/bin/R CMD INSTALL iBBiG StartedAt: 2025-07-24 15:15:49 -0400 (Thu, 24 Jul 2025) EndedAt: 2025-07-24 15:15:55 -0400 (Thu, 24 Jul 2025) EllapsedTime: 6.6 seconds RetCode: 0 Status: OK