Package: iBBiG Version: 1.53.0 Command: /Library/Frameworks/R.framework/Resources/bin/R CMD build --keep-empty-dirs --no-resave-data iBBiG StartedAt: 2025-07-24 16:47:02 -0400 (Thu, 24 Jul 2025) EndedAt: 2025-07-24 16:47:19 -0400 (Thu, 24 Jul 2025) EllapsedTime: 17.2 seconds RetCode: 0 Status: OK PackageFile: iBBiG_1.53.0.tar.gz PackageFileSize: 910.2 KiB