Package: hyperdraw Version: 1.61.0 Command: F:\biocbuild\bbs-3.22-bioc\R\bin\R.exe CMD check --no-multiarch --install=check:hyperdraw.install-out.txt --library=F:\biocbuild\bbs-3.22-bioc\R\library --no-vignettes --timings hyperdraw_1.61.0.tar.gz StartedAt: 2025-07-22 03:09:18 -0400 (Tue, 22 Jul 2025) EndedAt: 2025-07-22 03:10:13 -0400 (Tue, 22 Jul 2025) EllapsedTime: 54.6 seconds RetCode: 0 Status: OK CheckDir: hyperdraw.Rcheck Warnings: 0