Package: hyperdraw Version: 1.61.0 Command: rm -rf hyperdraw.buildbin-libdir && mkdir hyperdraw.buildbin-libdir && F:\biocbuild\bbs-3.22-bioc\R\bin\R.exe CMD INSTALL --build --library=hyperdraw.buildbin-libdir hyperdraw_1.61.0.tar.gz StartedAt: 2025-07-21 09:15:25 -0400 (Mon, 21 Jul 2025) EndedAt: 2025-07-21 09:15:51 -0400 (Mon, 21 Jul 2025) EllapsedTime: 25.1 seconds RetCode: 0 Status: OK PackageFile: hyperdraw_1.61.0.zip PackageFileSize: 277.4 KiB