Package: hypeR Version: 2.7.1 Command: /home/biocbuild/R/R/bin/R CMD INSTALL hypeR StartedAt: 2025-07-24 21:08:03 -0000 (Thu, 24 Jul 2025) EndedAt: 2025-07-24 21:08:32 -0000 (Thu, 24 Jul 2025) EllapsedTime: 29.3 seconds RetCode: 1 Status: ERROR