Package: hypeR Version: 2.7.1 Command: F:\biocbuild\bbs-3.22-bioc\R\bin\R.exe CMD INSTALL hypeR StartedAt: 2025-07-24 15:36:31 -0400 (Thu, 24 Jul 2025) EndedAt: 2025-07-24 15:36:42 -0400 (Thu, 24 Jul 2025) EllapsedTime: 11.0 seconds RetCode: 1 Status: ERROR