Package: hypeR Version: 2.7.1 Command: chmod a+r hypeR -R && F:\biocbuild\bbs-3.22-bioc\R\bin\R.exe CMD build --keep-empty-dirs --no-resave-data hypeR StartedAt: 2025-07-24 19:55:54 -0400 (Thu, 24 Jul 2025) EndedAt: 2025-07-24 19:56:01 -0400 (Thu, 24 Jul 2025) EllapsedTime: 7.1 seconds RetCode: 1 Status: ERROR PackageFile: None PackageFileSize: NA