Package: hypeR Version: 2.7.0 Command: /Library/Frameworks/R.framework/Resources/bin/R CMD INSTALL hypeR StartedAt: 2025-07-20 15:05:28 -0400 (Sun, 20 Jul 2025) EndedAt: 2025-07-20 15:05:33 -0400 (Sun, 20 Jul 2025) EllapsedTime: 4.7 seconds RetCode: 1 Status: ERROR