Package: hummingbird Version: 1.19.0 Command: F:\biocbuild\bbs-3.22-bioc\R\bin\R.exe CMD INSTALL hummingbird StartedAt: 2025-07-24 16:09:42 -0400 (Thu, 24 Jul 2025) EndedAt: 2025-07-24 16:10:18 -0400 (Thu, 24 Jul 2025) EllapsedTime: 36.5 seconds RetCode: 0 Status: OK