Package: hummingbird Version: 1.19.0 Command: /home/biocbuild/bbs-3.22-bioc/R/bin/R CMD INSTALL hummingbird StartedAt: 2025-07-18 15:16:56 -0400 (Fri, 18 Jul 2025) EndedAt: 2025-07-18 15:17:20 -0400 (Fri, 18 Jul 2025) EllapsedTime: 24.0 seconds RetCode: 0 Status: OK