Package: hummingbird Version: 1.19.0 Command: /home/biocbuild/bbs-3.22-bioc/R/bin/R CMD check --install=check:hummingbird.install-out.txt --library=/home/biocbuild/bbs-3.22-bioc/R/site-library --timings hummingbird_1.19.0.tar.gz StartedAt: 2025-07-18 23:14:39 -0400 (Fri, 18 Jul 2025) EndedAt: 2025-07-18 23:17:16 -0400 (Fri, 18 Jul 2025) EllapsedTime: 156.2 seconds RetCode: 0 Status: OK CheckDir: hummingbird.Rcheck Warnings: 0