Package: hummingbird Version: 1.19.0 Maintainer: Eleni Adam MaintainerEmail: eadam002 at odu.edu git_url: https://git.bioconductor.org/packages/hummingbird git_branch: devel git_last_commit: 33de313 git_last_commit_date: 2025-04-15 12:06:17 -0400 (Tue, 15 Apr 2025)