Package: hpar Version: 1.51.0 Command: /home/biocbuild/R/R/bin/R CMD build --keep-empty-dirs --no-resave-data hpar StartedAt: 2025-10-03 00:40:10 -0000 (Fri, 03 Oct 2025) EndedAt: 2025-10-03 00:41:03 -0000 (Fri, 03 Oct 2025) EllapsedTime: 53.0 seconds RetCode: 0 Status: OK PackageFile: hpar_1.51.0.tar.gz PackageFileSize: 983 KiB