Package: hpar Version: 1.51.0 Command: /home/biocbuild/bbs-3.22-bioc/R/bin/R CMD INSTALL hpar StartedAt: 2025-07-02 15:32:07 -0400 (Wed, 02 Jul 2025) EndedAt: 2025-07-02 15:32:22 -0400 (Wed, 02 Jul 2025) EllapsedTime: 14.9 seconds RetCode: 0 Status: OK