Package: hpar Version: 1.51.0 Command: /home/biocbuild/bbs-3.22-bioc/R/bin/R CMD check --install=check:hpar.install-out.txt --library=/home/biocbuild/bbs-3.22-bioc/R/site-library --timings hpar_1.51.0.tar.gz StartedAt: 2025-07-02 23:22:27 -0400 (Wed, 02 Jul 2025) EndedAt: 2025-07-02 23:24:33 -0400 (Wed, 02 Jul 2025) EllapsedTime: 126.1 seconds RetCode: 0 Status: OK CheckDir: hpar.Rcheck Warnings: 0