Package: hpar Version: 1.51.0 Command: /Library/Frameworks/R.framework/Resources/bin/R CMD check --install=check:hpar.install-out.txt --library=/Library/Frameworks/R.framework/Resources/library --no-vignettes --timings hpar_1.51.0.tar.gz StartedAt: 2025-10-05 22:09:52 -0400 (Sun, 05 Oct 2025) EndedAt: 2025-10-05 22:11:56 -0400 (Sun, 05 Oct 2025) EllapsedTime: 124.0 seconds RetCode: 0 Status: OK CheckDir: hpar.Rcheck Warnings: 0