Package: hpar Version: 1.51.0 Command: /Library/Frameworks/R.framework/Resources/bin/R CMD build --keep-empty-dirs --no-resave-data hpar StartedAt: 2025-10-05 17:25:02 -0400 (Sun, 05 Oct 2025) EndedAt: 2025-10-05 17:25:56 -0400 (Sun, 05 Oct 2025) EllapsedTime: 53.9 seconds RetCode: 0 Status: OK PackageFile: hpar_1.51.0.tar.gz PackageFileSize: 885.2 KiB