Package: hpar Version: 1.51.0 Command: rm -rf hpar.buildbin-libdir && mkdir hpar.buildbin-libdir && /Users/biocbuild/BBS/utils/build-universal.sh hpar_1.51.0.tar.gz /Library/Frameworks/R.framework/Resources/bin/R hpar.buildbin-libdir StartedAt: 2025-10-06 02:05:27 -0400 (Mon, 06 Oct 2025) EndedAt: 2025-10-06 02:05:50 -0400 (Mon, 06 Oct 2025) EllapsedTime: 23.2 seconds RetCode: 0 Status: OK PackageFile: hpar_1.51.0.tgz PackageFileSize: 638.2 KiB