Package: hpar Version: 1.51.0 Command: /Library/Frameworks/R.framework/Resources/bin/R CMD build --keep-empty-dirs --no-resave-data hpar StartedAt: 2025-07-20 16:37:34 -0400 (Sun, 20 Jul 2025) EndedAt: 2025-07-20 16:37:50 -0400 (Sun, 20 Jul 2025) EllapsedTime: 15.2 seconds RetCode: 0 Status: OK PackageFile: hpar_1.51.0.tar.gz PackageFileSize: 885.3 KiB