Package: hpar Version: 1.51.0 Maintainer: Laurent Gatto MaintainerEmail: laurent.gatto at uclouvain.be git_url: https://git.bioconductor.org/packages/hpar git_branch: devel git_last_commit: 6ab9925 git_last_commit_date: 2025-04-15 10:15:28 -0400 (Tue, 15 Apr 2025)