Package: hopach Version: 2.69.0 Command: /home/biocbuild/R/R/bin/R CMD INSTALL hopach StartedAt: 2025-07-21 20:35:43 -0000 (Mon, 21 Jul 2025) EndedAt: 2025-07-21 20:35:57 -0000 (Mon, 21 Jul 2025) EllapsedTime: 14.0 seconds RetCode: 0 Status: OK