Package: hopach Version: 2.69.0 Command: chmod a+r hopach -R && F:\biocbuild\bbs-3.22-bioc\R\bin\R.exe CMD build --keep-empty-dirs --no-resave-data hopach StartedAt: 2025-07-24 19:54:46 -0400 (Thu, 24 Jul 2025) EndedAt: 2025-07-24 19:55:29 -0400 (Thu, 24 Jul 2025) EllapsedTime: 43.1 seconds RetCode: 0 Status: OK PackageFile: hopach_2.69.0.tar.gz PackageFileSize: 1.17 MiB