Package: hopach Version: 2.69.0 Command: /home/biocbuild/bbs-3.22-bioc/R/bin/R CMD check --install=check:hopach.install-out.txt --library=/home/biocbuild/bbs-3.22-bioc/R/site-library --timings hopach_2.69.0.tar.gz StartedAt: 2025-07-11 23:08:19 -0400 (Fri, 11 Jul 2025) EndedAt: 2025-07-11 23:09:27 -0400 (Fri, 11 Jul 2025) EllapsedTime: 68.1 seconds RetCode: 0 Status: OK CheckDir: hopach.Rcheck Warnings: 0