Package: hopach Version: 2.69.0 Command: /home/biocbuild/bbs-3.22-bioc/R/bin/R CMD build --keep-empty-dirs --no-resave-data --md5 hopach StartedAt: 2025-07-11 17:36:07 -0400 (Fri, 11 Jul 2025) EndedAt: 2025-07-11 17:36:32 -0400 (Fri, 11 Jul 2025) EllapsedTime: 25.0 seconds RetCode: 0 Status: OK PackageFile: hopach_2.69.0.tar.gz PackageFileSize: 1.294 MiB