Package: hopach Version: 2.69.0 Command: /Library/Frameworks/R.framework/Resources/bin/R CMD check --install=check:hopach.install-out.txt --library=/Library/Frameworks/R.framework/Resources/library --no-vignettes --timings hopach_2.69.0.tar.gz StartedAt: 2025-10-05 22:09:44 -0400 (Sun, 05 Oct 2025) EndedAt: 2025-10-05 22:10:55 -0400 (Sun, 05 Oct 2025) EllapsedTime: 70.9 seconds RetCode: 0 Status: OK CheckDir: hopach.Rcheck Warnings: 0