Package: hopach Version: 2.69.0 Command: /Library/Frameworks/R.framework/Resources/bin/R CMD build --keep-empty-dirs --no-resave-data hopach StartedAt: 2025-10-03 17:24:46 -0400 (Fri, 03 Oct 2025) EndedAt: 2025-10-03 17:25:28 -0400 (Fri, 03 Oct 2025) EllapsedTime: 42.4 seconds RetCode: 0 Status: OK PackageFile: hopach_2.69.0.tar.gz PackageFileSize: 1.292 MiB