Package: hopach Version: 2.69.0 Command: /Library/Frameworks/R.framework/Resources/bin/R CMD check --install=check:hopach.install-out.txt --library=/Library/Frameworks/R.framework/Resources/library --no-vignettes --timings hopach_2.69.0.tar.gz StartedAt: 2025-07-21 19:43:16 -0400 (Mon, 21 Jul 2025) EndedAt: 2025-07-21 19:43:38 -0400 (Mon, 21 Jul 2025) EllapsedTime: 22.3 seconds RetCode: 0 Status: OK CheckDir: hopach.Rcheck Warnings: 0