Package: hopach Version: 2.69.0 Command: /Library/Frameworks/R.framework/Resources/bin/R CMD build --keep-empty-dirs --no-resave-data hopach StartedAt: 2025-07-21 16:36:46 -0400 (Mon, 21 Jul 2025) EndedAt: 2025-07-21 16:36:59 -0400 (Mon, 21 Jul 2025) EllapsedTime: 12.1 seconds RetCode: 0 Status: OK PackageFile: hopach_2.69.0.tar.gz PackageFileSize: 1.293 MiB