Package: hoodscanR Version: 1.7.0 Command: /home/biocbuild/R/R/bin/R CMD build --keep-empty-dirs --no-resave-data hoodscanR StartedAt: 2025-07-18 00:28:00 -0000 (Fri, 18 Jul 2025) EndedAt: 2025-07-18 00:29:16 -0000 (Fri, 18 Jul 2025) EllapsedTime: 76.0 seconds RetCode: 0 Status: OK PackageFile: hoodscanR_1.7.0.tar.gz PackageFileSize: 1.529 MiB