Package: hoodscanR Version: 1.7.0 Command: chmod a+r hoodscanR -R && F:\biocbuild\bbs-3.22-bioc\R\bin\R.exe CMD build --keep-empty-dirs --no-resave-data hoodscanR StartedAt: 2025-07-09 20:15:23 -0400 (Wed, 09 Jul 2025) EndedAt: 2025-07-09 20:16:32 -0400 (Wed, 09 Jul 2025) EllapsedTime: 69.4 seconds RetCode: 0 Status: OK PackageFile: hoodscanR_1.7.0.tar.gz PackageFileSize: 1.17 MiB