Package: hoodscanR Version: 1.7.0 Command: rm -rf hoodscanR.buildbin-libdir && mkdir hoodscanR.buildbin-libdir && F:\biocbuild\bbs-3.22-bioc\R\bin\R.exe CMD INSTALL --build --library=hoodscanR.buildbin-libdir hoodscanR_1.7.0.tar.gz StartedAt: 2025-07-10 09:44:08 -0400 (Thu, 10 Jul 2025) EndedAt: 2025-07-10 09:45:05 -0400 (Thu, 10 Jul 2025) EllapsedTime: 56.8 seconds RetCode: 0 Status: OK PackageFile: hoodscanR_1.7.0.zip PackageFileSize: 1.576 MiB