Package: hoodscanR Version: 1.7.0 Command: /home/biocbuild/bbs-3.22-bioc/R/bin/R CMD INSTALL hoodscanR StartedAt: 2025-07-09 16:08:48 -0400 (Wed, 09 Jul 2025) EndedAt: 2025-07-09 16:09:24 -0400 (Wed, 09 Jul 2025) EllapsedTime: 35.7 seconds RetCode: 0 Status: OK