Package: hoodscanR Version: 1.7.0 Command: /Library/Frameworks/R.framework/Resources/bin/R CMD check --install=check:hoodscanR.install-out.txt --library=/Library/Frameworks/R.framework/Resources/library --no-vignettes --timings hoodscanR_1.7.0.tar.gz StartedAt: 2025-07-09 21:38:25 -0400 (Wed, 09 Jul 2025) EndedAt: 2025-07-09 21:42:16 -0400 (Wed, 09 Jul 2025) EllapsedTime: 230.9 seconds RetCode: 0 Status: OK CheckDir: hoodscanR.Rcheck Warnings: 0