Package: hoodscanR Version: 1.7.0 Command: /Library/Frameworks/R.framework/Resources/bin/R CMD build --keep-empty-dirs --no-resave-data hoodscanR StartedAt: 2025-07-09 17:35:00 -0400 (Wed, 09 Jul 2025) EndedAt: 2025-07-09 17:36:08 -0400 (Wed, 09 Jul 2025) EllapsedTime: 67.6 seconds RetCode: 0 Status: OK PackageFile: hoodscanR_1.7.0.tar.gz PackageFileSize: 3.037 MiB