Package: hoodscanR Version: 1.7.0 Maintainer: Ning Liu MaintainerEmail: ning.liu at adelaide.edu.au git_url: https://git.bioconductor.org/packages/hoodscanR git_branch: devel git_last_commit: a3f1cc4 git_last_commit_date: 2025-04-15 13:20:53 -0400 (Tue, 15 Apr 2025)