Package: hmdbQuery Version: 1.29.0 Command: /home/biocbuild/R/R/bin/R CMD build --keep-empty-dirs --no-resave-data hmdbQuery StartedAt: 2025-07-01 00:18:30 -0000 (Tue, 01 Jul 2025) EndedAt: 2025-07-01 00:18:56 -0000 (Tue, 01 Jul 2025) EllapsedTime: 26.0 seconds RetCode: 1 Status: ERROR PackageFile: None PackageFileSize: NA