Package: hipathia Version: 3.9.0 Command: /Library/Frameworks/R.framework/Resources/bin/R CMD INSTALL hipathia StartedAt: 2025-07-01 15:45:18 -0400 (Tue, 01 Jul 2025) EndedAt: 2025-07-01 15:46:06 -0400 (Tue, 01 Jul 2025) EllapsedTime: 48.1 seconds RetCode: 0 Status: OK