Package: hipathia Version: 3.9.0 Command: /Library/Frameworks/R.framework/Resources/bin/R CMD build --keep-empty-dirs --no-resave-data hipathia StartedAt: 2025-07-01 17:18:17 -0400 (Tue, 01 Jul 2025) EndedAt: 2025-07-01 17:27:11 -0400 (Tue, 01 Jul 2025) EllapsedTime: 534.1 seconds RetCode: 0 Status: OK PackageFile: hipathia_3.9.0.tar.gz PackageFileSize: 7.767 MiB