Package: hipathia Version: 3.9.0 Command: rm -rf hipathia.buildbin-libdir && mkdir hipathia.buildbin-libdir && /Users/biocbuild/BBS/utils/build-universal.sh hipathia_3.9.0.tar.gz /Library/Frameworks/R.framework/Resources/bin/R hipathia.buildbin-libdir StartedAt: 2025-07-02 01:01:36 -0400 (Wed, 02 Jul 2025) EndedAt: 2025-07-02 01:02:28 -0400 (Wed, 02 Jul 2025) EllapsedTime: 52.1 seconds RetCode: 0 Status: OK PackageFile: hipathia_3.9.0.tgz PackageFileSize: 7.649 MiB