Package: hierinf Version: 1.27.0 Command: /home/biocbuild/bbs-3.22-bioc/R/bin/R CMD INSTALL hierinf StartedAt: 2025-07-04 15:04:32 -0400 (Fri, 04 Jul 2025) EndedAt: 2025-07-04 15:05:00 -0400 (Fri, 04 Jul 2025) EllapsedTime: 27.3 seconds RetCode: 0 Status: OK