Package: hierinf Version: 1.27.0 Command: /home/biocbuild/bbs-3.22-bioc/R/bin/R CMD check --install=check:hierinf.install-out.txt --library=/home/biocbuild/bbs-3.22-bioc/R/site-library --timings hierinf_1.27.0.tar.gz StartedAt: 2025-07-04 23:02:57 -0400 (Fri, 04 Jul 2025) EndedAt: 2025-07-04 23:07:06 -0400 (Fri, 04 Jul 2025) EllapsedTime: 248.3 seconds RetCode: 0 Status: OK CheckDir: hierinf.Rcheck Warnings: 0