Package: hierinf Version: 1.27.0 Command: /Library/Frameworks/R.framework/Resources/bin/R CMD build --keep-empty-dirs --no-resave-data hierinf StartedAt: 2025-07-14 17:15:53 -0400 (Mon, 14 Jul 2025) EndedAt: 2025-07-14 17:17:27 -0400 (Mon, 14 Jul 2025) EllapsedTime: 93.6 seconds RetCode: 0 Status: OK PackageFile: hierinf_1.27.0.tar.gz PackageFileSize: 430.2 KiB